BEGIN:VCALENDAR
VERSION:2.0
PRODID:-//ChamberMaster//Event Calendar 2.0//EN
METHOD:PUBLISH
X-PUBLISHED-TTL:P3D
REFRESH-INTERVAL:P3D
CALSCALE:GREGORIAN
BEGIN:VEVENT
DTSTART:20221019T170000Z
DTEND:20221019T180000Z
X-MICROSOFT-CDO-ALLDAYEVENT:FALSE
SUMMARY:ZOOM: Informational Webinar on the Colorado Secure Savings Program
DESCRIPTION:Please join us for an online informational webinar on the Colorado Secure Savings Program which will be rolled out in 2023.\n\n\n\nOver half the working population in Colorado does not have access to a retirement plan through their employer (or are self-employed and have to manage their own retirement planning). The retirement savings shortfall has massive implications for state and local budgets and the long term economic security of Coloradans.\n\n\n\nIn 2020\, the Colorado General Assembly passed SB20-200 which created the Colorado Secure Savings Program within the state's Department of the Treasury. \n\n\n\nWhen the program is fully implemented\, employers with five or more employees\, who have been in business 2+ years\, and who do not currently offer a retirement plan to employees will be required to register and enroll employees in the program and handle contributions through their payroll process. The program will be administered at no cost to employers and with no obligation for employers to match contributions.\n\n\n\nIn this webinar\, a state representative will discuss the roll-out of the program\, answer your questions\, and help you understand how this program will impact your business.\n\n\n\nThis free program is offered as a non-partisan\, informational session by the chambers of Parker\, Castle Rock\, and North Douglas County. Please register and Zoom credentials will be emailed to you 48 hours before the webinar.\n\n\n\nInformation on the Colorado Secure Savings Program is also available HERE.
X-ALT-DESC;FMTTYPE=text/html:<span style="font-size:16px\;">Please join us for an online informational webinar on the <strong>Colorado Secure Savings&nbsp\;Program</strong> which will be rolled out in 2023.<br />\n<br />\nOver half the working population in Colorado does not have access to a retirement plan through their employer (or are self-employed and have to manage their own retirement planning). The retirement savings shortfall has massive implications for state and local budgets and the long term economic security of Coloradans.<br />\n<br />\nIn 2020\, the Colorado General Assembly passed SB20-200 which created the <strong>Colorado Secure Savings Program</strong> within the state&#39\;s Department of the Treasury.&nbsp\;<br />\n<br />\n<strong>When the program is fully implemented\, employers with five or more employees\, who have been in business 2+ years\, and who do not currently offer a retirement plan to employees will be required to register and enroll employees in the program and handle contributions through their payroll process. The program will be administered at no cost to employers and with no obligation for employers to match contributions.</strong><br />\n<br />\nIn this webinar\, a state representative will discuss the roll-out of the program\, answer your questions\, and help you understand how this program will impact your business.<br />\n<br />\nThis free program is offered as a non-partisan\, informational session by the chambers of Parker\, Castle Rock\, and North Douglas County. Please register and Zoom credentials will be emailed to you 48 hours before the webinar.<br />\n<br />\nInformation on the Colorado Secure Savings Program is also available <a href="https://treasury.colorado.gov/colorado-secure-savings-program"><span style="color:#B22222\;"><strong>HERE</strong></span></a>.</span>
LOCATION:ONLINE on Zoom
UID:e.2085.5817
SEQUENCE:3
DTSTAMP:20260420T011005Z
URL:http://parkerchamber.sampleorg.com/events/details/zoom-informational-webinar-on-the-colorado-secure-savings-program-5817
END:VEVENT

END:VCALENDAR
